BEGIN:VCALENDAR
VERSION:2.0
PRODID:icalendar-ruby
CALSCALE:GREGORIAN
METHOD:PUBLISH
BEGIN:VEVENT
DTSTAMP:20260421T054821Z
UID:14-1067652@rockbottom.tithelysetup5.com
DTSTART:20250407T020000Z
DTEND:20250407T040000Z
CLASS:PUBLIC
CREATED:20260420T174539
DESCRIPTION:Every week\, RBCM\, goes into the Fresno County Jail and shares
  the Gospel. \nThe stories and testimonies of God showing up has been lif
 e chaging. Fellowship in the jail is done in a chapel setting or witin the
  pods themselves. Inmates are learning what it means to spend TIME with Go
 d and eachother. As a result\, politics have droped.\nAs Christ-followers\
 , walking with inmates allows us to practice mercy in truth and love. Inte
 rested in participating? Please reach out. \nAre you or someone you love 
 incarcerated? \nWrite to RBCM  @ 1520 Jensen Ave #154 Sanger\, CA 93657.
  \nWe will write you back!  \nIt's at rock bottom we dicover who our Ro
 ck truly is. \nJesus is Lord.  
LAST-MODIFIED:20260420T174539
LOCATION:1225 M St\, Fresno\, CA 93721
SUMMARY:Fresno County Jail Chapel
URL;VALUE=URI:https://www.rockbottom724.org/events/fresno-county-jail-chape
 l/2025-04-06
ATTACH;FILENAME=Jail.jpg;FMTTYPE=image/jpeg:https://dq5pwpg1q8ru0.cloudfron
 t.net/2024/03/19/19/18/27/5729d600-041f-4a6a-a388-7dd5124eb3fd/Jail.jpg
ATTACH;FILENAME=RB-Letters.jpg;FMTTYPE=image/jpeg:https://dq5pwpg1q8ru0.clo
 udfront.net/2024/03/19/19/25/25/c67504d2-3a7d-48a9-839d-a3159e804306/RB-Le
 tters.jpg
ATTACH;FILENAME=Fresno-County-Jail-Inmates.jpg;FMTTYPE=image/jpeg:https://d
 q5pwpg1q8ru0.cloudfront.net/2025/11/03/22/47/27/ae663646-aa35-4ec4-b3dd-63
 7d233e71b4/Fresno-County-Jail-Inmates.jpg
END:VEVENT
END:VCALENDAR
